BEGIN:VCALENDAR
VERSION:2.0
PRODID:-//Lung Cancer Research Foundation - ECPv6.15.20//NONSGML v1.0//EN
CALSCALE:GREGORIAN
METHOD:PUBLISH
X-WR-CALNAME:Lung Cancer Research Foundation
X-ORIGINAL-URL:https://www.lungcancerresearchfoundation.org
X-WR-CALDESC:Events for Lung Cancer Research Foundation
REFRESH-INTERVAL;VALUE=DURATION:PT1H
X-Robots-Tag:noindex
X-PUBLISHED-TTL:PT1H
BEGIN:VTIMEZONE
TZID:America/Chicago
BEGIN:DAYLIGHT
TZOFFSETFROM:-0600
TZOFFSETTO:-0500
TZNAME:CDT
DTSTART:20250309T080000
END:DAYLIGHT
BEGIN:STANDARD
TZOFFSETFROM:-0500
TZOFFSETTO:-0600
TZNAME:CST
DTSTART:20251102T070000
END:STANDARD
BEGIN:DAYLIGHT
TZOFFSETFROM:-0600
TZOFFSETTO:-0500
TZNAME:CDT
DTSTART:20260308T080000
END:DAYLIGHT
BEGIN:STANDARD
TZOFFSETFROM:-0500
TZOFFSETTO:-0600
TZNAME:CST
DTSTART:20261101T070000
END:STANDARD
BEGIN:DAYLIGHT
TZOFFSETFROM:-0600
TZOFFSETTO:-0500
TZNAME:CDT
DTSTART:20270314T080000
END:DAYLIGHT
BEGIN:STANDARD
TZOFFSETFROM:-0500
TZOFFSETTO:-0600
TZNAME:CST
DTSTART:20271107T070000
END:STANDARD
END:VTIMEZONE
BEGIN:VEVENT
DTSTART;TZID=America/Chicago:20260926T083000
DTEND;TZID=America/Chicago:20260926T113000
DTSTAMP:20260420T143230
CREATED:20260129T221601Z
LAST-MODIFIED:20260129T222156Z
UID:10000319-1790411400-1790422200@www.lungcancerresearchfoundation.org
SUMMARY:Free to Breathe Kansas City Walk
DESCRIPTION:Join us for an amazing and impactful experience at the Free to Breathe Kansas City Walk! When you walk with us\, you are joining a community dedicated to building awareness and funding vital research programs to increase lung cancer survival. \n\n\n\nWhether you are joining a team or walking as an individual\, you are an important part of our second family\, and we’ll cheer you on to success! Registration coming soon! \n\n\n\nQuestions? Email us at events@LCRF.org or call (646) 430-0898.
URL:https://www.lungcancerresearchfoundation.org/event/free-to-breathe-kansas-city-walk-3/
CATEGORIES:Free to Breathe
ATTACH;FMTTYPE=image/png:https://www.lungcancerresearchfoundation.org/wp-content/uploads/KC-banner.png
END:VEVENT
END:VCALENDAR