BEGIN:VCALENDAR
VERSION:2.0
PRODID:-//Lung Cancer Research Foundation - ECPv6.15.20//NONSGML v1.0//EN
CALSCALE:GREGORIAN
METHOD:PUBLISH
X-ORIGINAL-URL:https://www.lungcancerresearchfoundation.org
X-WR-CALDESC:Events for Lung Cancer Research Foundation
REFRESH-INTERVAL;VALUE=DURATION:PT1H
X-Robots-Tag:noindex
X-PUBLISHED-TTL:PT1H
BEGIN:VTIMEZONE
TZID:America/New_York
BEGIN:DAYLIGHT
TZOFFSETFROM:-0500
TZOFFSETTO:-0400
TZNAME:EDT
DTSTART:20250309T070000
END:DAYLIGHT
BEGIN:STANDARD
TZOFFSETFROM:-0400
TZOFFSETTO:-0500
TZNAME:EST
DTSTART:20251102T060000
END:STANDARD
BEGIN:DAYLIGHT
TZOFFSETFROM:-0500
TZOFFSETTO:-0400
TZNAME:EDT
DTSTART:20260308T070000
END:DAYLIGHT
BEGIN:STANDARD
TZOFFSETFROM:-0400
TZOFFSETTO:-0500
TZNAME:EST
DTSTART:20261101T060000
END:STANDARD
BEGIN:DAYLIGHT
TZOFFSETFROM:-0500
TZOFFSETTO:-0400
TZNAME:EDT
DTSTART:20270314T070000
END:DAYLIGHT
BEGIN:STANDARD
TZOFFSETFROM:-0400
TZOFFSETTO:-0500
TZNAME:EST
DTSTART:20271107T060000
END:STANDARD
END:VTIMEZONE
BEGIN:VEVENT
DTSTART;TZID=America/New_York:20261101T080000
DTEND;TZID=America/New_York:20261101T170000
DTSTAMP:20260420T165428
CREATED:20260129T215441Z
LAST-MODIFIED:20260129T221259Z
UID:10000316-1793520000-1793552400@www.lungcancerresearchfoundation.org
SUMMARY:TCS NYC Marathon
DESCRIPTION:Team LCRF is part of the TCS NYC Marathon! The event is the largest marathon in the world\, with 59\,135 finishers in 2025 and over 200\,000 applicants for the 2025 race. Join our team and raise money for lung cancer research! \n\n\n\nContact events@LCRF.org for more information. \n\n\n\n\nApply for a spot
URL:https://www.lungcancerresearchfoundation.org/event/tcs-nyc-marathon/
CATEGORIES:Endurance,Free to Breathe
ATTACH;FMTTYPE=image/png:https://www.lungcancerresearchfoundation.org/wp-content/uploads/calendar-NYCM.png
END:VEVENT
END:VCALENDAR