BEGIN:VCALENDAR
VERSION:2.0
PRODID:-//Lung Cancer Research Foundation - ECPv6.15.20//NONSGML v1.0//EN
CALSCALE:GREGORIAN
METHOD:PUBLISH
X-WR-CALNAME:Lung Cancer Research Foundation
X-ORIGINAL-URL:https://www.lungcancerresearchfoundation.org
X-WR-CALDESC:Events for Lung Cancer Research Foundation
REFRESH-INTERVAL;VALUE=DURATION:PT1H
X-Robots-Tag:noindex
X-PUBLISHED-TTL:PT1H
BEGIN:VTIMEZONE
TZID:America/New_York
BEGIN:DAYLIGHT
TZOFFSETFROM:-0500
TZOFFSETTO:-0400
TZNAME:EDT
DTSTART:20180311T070000
END:DAYLIGHT
BEGIN:STANDARD
TZOFFSETFROM:-0400
TZOFFSETTO:-0500
TZNAME:EST
DTSTART:20181104T060000
END:STANDARD
BEGIN:DAYLIGHT
TZOFFSETFROM:-0500
TZOFFSETTO:-0400
TZNAME:EDT
DTSTART:20190310T070000
END:DAYLIGHT
BEGIN:STANDARD
TZOFFSETFROM:-0400
TZOFFSETTO:-0500
TZNAME:EST
DTSTART:20191103T060000
END:STANDARD
BEGIN:DAYLIGHT
TZOFFSETFROM:-0500
TZOFFSETTO:-0400
TZNAME:EDT
DTSTART:20200308T070000
END:DAYLIGHT
BEGIN:STANDARD
TZOFFSETFROM:-0400
TZOFFSETTO:-0500
TZNAME:EST
DTSTART:20201101T060000
END:STANDARD
BEGIN:DAYLIGHT
TZOFFSETFROM:-0500
TZOFFSETTO:-0400
TZNAME:EDT
DTSTART:20210314T070000
END:DAYLIGHT
BEGIN:STANDARD
TZOFFSETFROM:-0400
TZOFFSETTO:-0500
TZNAME:EST
DTSTART:20211107T060000
END:STANDARD
BEGIN:DAYLIGHT
TZOFFSETFROM:-0500
TZOFFSETTO:-0400
TZNAME:EDT
DTSTART:20220313T070000
END:DAYLIGHT
BEGIN:STANDARD
TZOFFSETFROM:-0400
TZOFFSETTO:-0500
TZNAME:EST
DTSTART:20221106T060000
END:STANDARD
BEGIN:DAYLIGHT
TZOFFSETFROM:-0500
TZOFFSETTO:-0400
TZNAME:EDT
DTSTART:20230312T070000
END:DAYLIGHT
BEGIN:STANDARD
TZOFFSETFROM:-0400
TZOFFSETTO:-0500
TZNAME:EST
DTSTART:20231105T060000
END:STANDARD
END:VTIMEZONE
BEGIN:VTIMEZONE
TZID:America/Chicago
BEGIN:DAYLIGHT
TZOFFSETFROM:-0600
TZOFFSETTO:-0500
TZNAME:CDT
DTSTART:20210314T080000
END:DAYLIGHT
BEGIN:STANDARD
TZOFFSETFROM:-0500
TZOFFSETTO:-0600
TZNAME:CST
DTSTART:20211107T070000
END:STANDARD
BEGIN:DAYLIGHT
TZOFFSETFROM:-0600
TZOFFSETTO:-0500
TZNAME:CDT
DTSTART:20220313T080000
END:DAYLIGHT
BEGIN:STANDARD
TZOFFSETFROM:-0500
TZOFFSETTO:-0600
TZNAME:CST
DTSTART:20221106T070000
END:STANDARD
BEGIN:DAYLIGHT
TZOFFSETFROM:-0600
TZOFFSETTO:-0500
TZNAME:CDT
DTSTART:20230312T080000
END:DAYLIGHT
BEGIN:STANDARD
TZOFFSETFROM:-0500
TZOFFSETTO:-0600
TZNAME:CST
DTSTART:20231105T070000
END:STANDARD
END:VTIMEZONE
BEGIN:VEVENT
DTSTART;TZID=America/New_York:20221022T103000
DTEND;TZID=America/New_York:20221022T120000
DTSTAMP:20260420T120047
CREATED:20220329T191242Z
LAST-MODIFIED:20230802T130616Z
UID:10000229-1666434600-1666440000@www.lungcancerresearchfoundation.org
SUMMARY:Free to Breathe Anywhere Walk
DESCRIPTION:The Free to Breathe Anywhere Walk brings people (like YOU!) together to raise awareness and funds for lung cancer research. Pull a group together to honor and support those who have been diagnosed with lung cancer. Then walk in your community as we take action to improve future lung cancer outcomes. \n\n\n\nWe will be sharing content through the LCRF app (iPhone / Android)\, and those who plan to take part the morning of Oct. 22 can begin accessing it at 10:30 AM ET / 9:30 AM CT / 8:30 AM MT / 7:30 AM PT. \n\n\n\n\nLearn more and register
URL:https://www.lungcancerresearchfoundation.org/event/free-to-breathe-anywhere-walk-2022/
CATEGORIES:Free to Breathe
ATTACH;FMTTYPE=image/jpeg:https://www.lungcancerresearchfoundation.org/wp-content/uploads/slide-1-4160.jpg
END:VEVENT
BEGIN:VEVENT
DTSTART;TZID=America/New_York:20221022T093000
DTEND;TZID=America/New_York:20221022T120000
DTSTAMP:20260420T120047
CREATED:20220616T155911Z
LAST-MODIFIED:20220616T155912Z
UID:10000242-1666431000-1666440000@www.lungcancerresearchfoundation.org
SUMMARY:Jersey Shore Free to Breathe Walk
DESCRIPTION:You can help improve lung cancer outcomes! Your participation and fundraising in the Lung Cancer Research Foundation’s Jersey Shore Free to Breathe Walk builds awareness and funds vital research programs dedicated to improving lung cancer outcomes.
URL:https://www.lungcancerresearchfoundation.org/event/jersey-shore-free-to-breathe-walk/
LOCATION:Asbury Ale House\, 531 Cookman Ave\, Asbury Park\, New Jersey\, 07712\, United States
CATEGORIES:Free to Breathe,Fundraiser
ATTACH;FMTTYPE=image/jpeg:https://www.lungcancerresearchfoundation.org/wp-content/uploads/48936784676_da06ecb630_k.jpg
END:VEVENT
BEGIN:VEVENT
DTSTART;TZID=America/New_York:20221022T093000
DTEND;TZID=America/New_York:20221022T120000
DTSTAMP:20260420T120047
CREATED:20220426T170746Z
LAST-MODIFIED:20220616T155748Z
UID:10000236-1666431000-1666440000@www.lungcancerresearchfoundation.org
SUMMARY:New York Free to Breathe Walk
DESCRIPTION:You can help improve lung cancer outcomes! Your participation and fundraising in the Lung Cancer Research Foundation’s New York Free to Breathe Walk builds awareness and funds vital research programs dedicated to improving lung cancer outcomes. \n\n\n\nRegistration opens and festivities begin – 9:30 am Opening ceremony and walk – 10:30 am
URL:https://www.lungcancerresearchfoundation.org/event/new-york-free-to-breathe-walk/
LOCATION:Brooklyn Korean War Veterans Plaza\, Cadman Plaza W and Tillary Street\, New York\, 11201\, United States
CATEGORIES:Free to Breathe,Fundraiser
ATTACH;FMTTYPE=image/jpeg:https://www.lungcancerresearchfoundation.org/wp-content/uploads/48935932637_bdaa67c73e_k.jpg
END:VEVENT
BEGIN:VEVENT
DTSTART;TZID=America/Chicago:20221022T083000
DTEND;TZID=America/Chicago:20221022T110000
DTSTAMP:20260420T120047
CREATED:20220426T170854Z
LAST-MODIFIED:20220426T171923Z
UID:10000237-1666427400-1666436400@www.lungcancerresearchfoundation.org
SUMMARY:Chicago Free to Breathe Walk
DESCRIPTION:You can help improve lung cancer outcomes! Your participation and fundraising in the Lung Cancer Research Foundation’s Chicago Free to Breathe Walk builds awareness and funds vital research programs dedicated to improving lung cancer outcomes. \n\n\n\nRegistration opens and festivities begin – 8:30 am Opening ceremony and walk – 9:30 am
URL:https://www.lungcancerresearchfoundation.org/event/chicago-free-to-breathe-walk/
LOCATION:Montrose Harbor\, 600 W Montrose Ave\, Chicago\, Illinois\, 60613\, United States
CATEGORIES:Free to Breathe,Fundraiser
ATTACH;FMTTYPE=image/jpeg:https://www.lungcancerresearchfoundation.org/wp-content/uploads/48789387918_1c82d5fea5_c.jpg
END:VEVENT
BEGIN:VEVENT
DTSTART;TZID=America/Chicago:20220924T093000
DTEND;TZID=America/Chicago:20220924T120000
DTSTAMP:20260420T120047
CREATED:20220616T155951Z
LAST-MODIFIED:20220616T155952Z
UID:10000243-1664011800-1664020800@www.lungcancerresearchfoundation.org
SUMMARY:Kansas City Free to Breathe Walk
DESCRIPTION:You can help improve lung cancer outcomes! Your participation and fundraising in the Lung Cancer Research Foundation’s Kansas City Free to Breathe Walk builds awareness and funds vital research programs dedicated to improving lung cancer outcomes.
URL:https://www.lungcancerresearchfoundation.org/event/kansas-city-free-to-breathe-walk/
LOCATION:Heritage Park – Shelters 2 & 3\, 16050 Pflumm Road\, Olathe\, Kansas\, 66062\, United States
CATEGORIES:Free to Breathe,Fundraiser
ATTACH;FMTTYPE=image/jpeg:https://www.lungcancerresearchfoundation.org/wp-content/uploads/kc-photo-adjusted.jpg
END:VEVENT
BEGIN:VEVENT
DTSTART;TZID=America/New_York:20211002T110000
DTEND;TZID=America/New_York:20211002T120000
DTSTAMP:20260420T120047
CREATED:20210203T174912Z
LAST-MODIFIED:20210203T174913Z
UID:10000201-1633172400-1633176000@www.lungcancerresearchfoundation.org
SUMMARY:Free to Breathe Walk
DESCRIPTION:The Free to Breathe Walk brings people (like YOU!) together to raise awareness and funds for lung cancer research. Join our nationwide livestream rally\, then walk in your own community. Teams honor and support those who have been diagnosed with lung cancer\, while celebrating hope for improving future lung cancer outcomes.
URL:https://www.lungcancerresearchfoundation.org/event/free-to-breathe-walk/
CATEGORIES:Community Event,Free to Breathe,Livestream
ATTACH;FMTTYPE=image/jpeg:https://www.lungcancerresearchfoundation.org/wp-content/uploads/slide-1-4115.jpg
END:VEVENT
BEGIN:VEVENT
DTSTART;TZID=America/New_York:20210901T120000
DTEND;TZID=America/New_York:20210901T130000
DTSTAMP:20260420T120048
CREATED:20210721T154310Z
LAST-MODIFIED:20210816T165344Z
UID:10000209-1630497600-1630501200@www.lungcancerresearchfoundation.org
SUMMARY:Free to Breathe Fall Kickoff
DESCRIPTION:To kick off our fall Free to Breathe events\, we’re having a fun kickoff livestream on Sept. 1. Grab your favorite beverage\, put your feet up\, and get ready to meet an awesome group of people who want to change the future of lung cancer. We’ll have Free to Breathe regulars and new faces from around the country! \n\n\n\nRSVP below! \n\n\n\n\n\n\n\n\n\n\n\n\nName *\n\n \n\n\n\nEmail *\n\n\n\n\n\nWhich type of event are you participating in or interested in learning more about?\n\n\nPlease select response\nFree to Breathe Walk\nFree to Breathe DIY\nTeam LCRF\nEndurance Events
URL:https://www.lungcancerresearchfoundation.org/event/free-to-breathe-walk-kickoff/
CATEGORIES:Free to Breathe,Livestream,National
ATTACH;FMTTYPE=image/jpeg:https://www.lungcancerresearchfoundation.org/wp-content/uploads/kickoff-web.jpg
END:VEVENT
BEGIN:VEVENT
DTSTART;TZID=America/New_York:20210424T110000
DTEND;TZID=America/New_York:20210424T120000
DTSTAMP:20260420T120048
CREATED:20210114T155937Z
LAST-MODIFIED:20210114T160331Z
UID:10000197-1619262000-1619265600@www.lungcancerresearchfoundation.org
SUMMARY:Free to Breathe Yoga
DESCRIPTION:Join Free to Breathe Yoga for a virtual yoga experience to celebrate research\, dedicate our practice\, and connect with others.
URL:https://www.lungcancerresearchfoundation.org/event/free-to-breathe-yoga/
CATEGORIES:Free to Breathe
ATTACH;FMTTYPE=image/jpeg:https://www.lungcancerresearchfoundation.org/wp-content/uploads/slide-1-4114.jpg
END:VEVENT
BEGIN:VEVENT
DTSTART;TZID=America/New_York:20201003T110000
DTEND;TZID=America/New_York:20201003T113000
DTSTAMP:20260420T120048
CREATED:20200610T174958Z
LAST-MODIFIED:20200821T143719Z
UID:10000171-1601722800-1601724600@www.lungcancerresearchfoundation.org
SUMMARY:Free to Breathe Walk - virtual
DESCRIPTION:You can help improve lung cancer outcomes! Your participation and fundraising in the Lung Cancer Research Foundation’s Free to Breathe Walk builds awareness and funds vital research programs dedicated to improving lung cancer outcomes. \n\n\n\nOn event day (Saturday\, October 3)\, LCRF.org/timetowalk will take you to the livestream. If you are prompted for a password\, use “breathe” – and we’ll see you starting at 11 AM EDT!
URL:https://www.lungcancerresearchfoundation.org/event/free-to-breathe-walk-virtual/
CATEGORIES:Community Event,Free to Breathe
ATTACH;FMTTYPE=image/jpeg:https://www.lungcancerresearchfoundation.org/wp-content/uploads/walk-main-1.jpg
END:VEVENT
BEGIN:VEVENT
DTSTART;TZID=America/New_York:20200809T090000
DTEND;TZID=America/New_York:20200809T100000
DTSTAMP:20260420T120048
CREATED:20200313T184934Z
LAST-MODIFIED:20200730T014349Z
UID:10000163-1596963600-1596967200@www.lungcancerresearchfoundation.org
SUMMARY:Strides for Life - virtual
DESCRIPTION:You can help improve lung cancer outcomes! Your participation and fundraising for the fifteenth Strides for Life builds awareness and funds vital research programs dedicated to increasing lung cancer survival. \n\n\n\nOn event day (Sunday\, August 9)\, LCRF.org/timetostride will take you to the livestream. If you are prompted for a password\, use “breathe” – and we’ll see you starting at 9 AM EDT!
URL:https://www.lungcancerresearchfoundation.org/event/strides-for-life/
CATEGORIES:Free to Breathe,Fundraiser
ATTACH;FMTTYPE=image/jpeg:https://www.lungcancerresearchfoundation.org/wp-content/uploads/slide-1-4041-new.jpg
END:VEVENT
BEGIN:VEVENT
DTSTART;TZID=America/New_York:20200620T110000
DTEND;TZID=America/New_York:20200620T120000
DTSTAMP:20260420T120048
CREATED:20200409T214911Z
LAST-MODIFIED:20200616T163722Z
UID:10000168-1592650800-1592654400@www.lungcancerresearchfoundation.org
SUMMARY:Free to Breathe Yoga - virtual
DESCRIPTION:Join Free to Breathe Yoga for a virtual yoga experience to celebrate research\, dedicate our practice\, and connect with others. Together\, our reach is unlimited! \n\n\n\nOn event day (Saturday\, June 20)\, LCRF.org/timeforyoga will take you to the livestream. If you are prompted for a password\, use “breathe” – and we’ll see you starting at 11 AM EDT!
URL:https://www.lungcancerresearchfoundation.org/event/free-to-breathe-yoga-virtually/
LOCATION:Your own yoga mat\, United States
CATEGORIES:Community Event,Free to Breathe,Fundraiser
ATTACH;FMTTYPE=image/jpeg:https://www.lungcancerresearchfoundation.org/wp-content/uploads/yoga-main.jpg
END:VEVENT
BEGIN:VEVENT
DTSTART;TZID=America/New_York:20191110T063000
DTEND;TZID=America/New_York:20191110T120000
DTSTAMP:20260420T120048
CREATED:20191028T160123Z
LAST-MODIFIED:20200407T183642Z
UID:10000158-1573367400-1573387200@www.lungcancerresearchfoundation.org
SUMMARY:Jazz by the Bay 5K
DESCRIPTION:You can help improve lung cancer outcomes! Your participation and fundraising in the Jazz By The Bay 5k builds awareness and funds vital research programs dedicated to improving lung cancer outcomes. \n\n\n\nRegister
URL:https://www.lungcancerresearchfoundation.org/event/jazz-by-the-bay-5k/
LOCATION:Embarcadero Marina North\, 400 Kettner Blvd\, San Diego\, California\, 92101\, United States
CATEGORIES:Free to Breathe,Fundraiser
ATTACH;FMTTYPE=image/jpeg:https://www.lungcancerresearchfoundation.org/wp-content/uploads/event-free-to-breathe-san-diego.jpg
ORGANIZER;CN="Kristina Buckner":MAILTO:KristinaBucknerCares@gmail.com
END:VEVENT
END:VCALENDAR