BEGIN:VCALENDAR
VERSION:2.0
PRODID:-//Lung Cancer Research Foundation - ECPv6.15.20//NONSGML v1.0//EN
CALSCALE:GREGORIAN
METHOD:PUBLISH
X-ORIGINAL-URL:https://www.lungcancerresearchfoundation.org
X-WR-CALDESC:Events for Lung Cancer Research Foundation
REFRESH-INTERVAL;VALUE=DURATION:PT1H
X-Robots-Tag:noindex
X-PUBLISHED-TTL:PT1H
BEGIN:VTIMEZONE
TZID:America/New_York
BEGIN:DAYLIGHT
TZOFFSETFROM:-0500
TZOFFSETTO:-0400
TZNAME:EDT
DTSTART:20180311T070000
END:DAYLIGHT
BEGIN:STANDARD
TZOFFSETFROM:-0400
TZOFFSETTO:-0500
TZNAME:EST
DTSTART:20181104T060000
END:STANDARD
BEGIN:DAYLIGHT
TZOFFSETFROM:-0500
TZOFFSETTO:-0400
TZNAME:EDT
DTSTART:20190310T070000
END:DAYLIGHT
BEGIN:STANDARD
TZOFFSETFROM:-0400
TZOFFSETTO:-0500
TZNAME:EST
DTSTART:20191103T060000
END:STANDARD
BEGIN:DAYLIGHT
TZOFFSETFROM:-0500
TZOFFSETTO:-0400
TZNAME:EDT
DTSTART:20200308T070000
END:DAYLIGHT
BEGIN:STANDARD
TZOFFSETFROM:-0400
TZOFFSETTO:-0500
TZNAME:EST
DTSTART:20201101T060000
END:STANDARD
END:VTIMEZONE
BEGIN:VEVENT
DTSTART;TZID=America/New_York:20191101T163000
DTEND;TZID=America/New_York:20191101T223000
DTSTAMP:20260423T060230
CREATED:20191028T140330Z
LAST-MODIFIED:20200407T183653Z
UID:10000156-1572625800-1572647400@www.lungcancerresearchfoundation.org
SUMMARY:A special evening at Broadway's Freestyle Love Supreme
DESCRIPTION:Join LCRF for a special evening at Broadway’s newest hit ‘Freestyle Love Supreme’. Help us kick off Lung Cancer Awareness month on November 1 at Freestyle Love Supreme! \n\n\n\nSee it for the first time every time as the performers take suggestions from the audience and spin them into instantaneous riffs and full-length musical numbers. With special — and spontaneous — guest appearances from Lin-Manuel Miranda\, Christopher Jackson and more\, every night brings the unexpected. \n\n\n\nEach Purchase includes: \n\n\n\nA ticket to the 8pm show of ‘Freestyle Love Supreme’ on 11/1/19A private post show Q&A with members of the cast and crew\n\n\n\nA portion of the proceeds from each ticket sold will support LCRF and its mission to improve lung cancer outcomes by funding research for the prevention\, diagnosis\, treatment and cure of lung cancer.  \n\n\n\nPurchase Tickets
URL:https://www.lungcancerresearchfoundation.org/event/a-special-evening-at-broadways-freestyle-love-supreme/
LOCATION:Booth Theatre\, 222 West 45th Street\, New York\, New York\, 10036\, United States
CATEGORIES:Fundraiser,Regional
ATTACH;FMTTYPE=image/jpeg:https://www.lungcancerresearchfoundation.org/wp-content/uploads/event-freestyle-love-supreme.jpg
END:VEVENT
BEGIN:VEVENT
DTSTART;TZID=America/New_York:20191110T063000
DTEND;TZID=America/New_York:20191110T120000
DTSTAMP:20260423T060230
CREATED:20191028T160123Z
LAST-MODIFIED:20200407T183642Z
UID:10000158-1573367400-1573387200@www.lungcancerresearchfoundation.org
SUMMARY:Jazz by the Bay 5K
DESCRIPTION:You can help improve lung cancer outcomes! Your participation and fundraising in the Jazz By The Bay 5k builds awareness and funds vital research programs dedicated to improving lung cancer outcomes. \n\n\n\nRegister
URL:https://www.lungcancerresearchfoundation.org/event/jazz-by-the-bay-5k/
LOCATION:Embarcadero Marina North\, 400 Kettner Blvd\, San Diego\, California\, 92101\, United States
CATEGORIES:Free to Breathe,Fundraiser
ATTACH;FMTTYPE=image/jpeg:https://www.lungcancerresearchfoundation.org/wp-content/uploads/event-free-to-breathe-san-diego.jpg
ORGANIZER;CN="Kristina Buckner":MAILTO:KristinaBucknerCares@gmail.com
END:VEVENT
BEGIN:VEVENT
DTSTART;TZID=America/New_York:20191112T120000
DTEND;TZID=America/New_York:20191112T140000
DTSTAMP:20260423T060230
CREATED:20191028T155536Z
LAST-MODIFIED:20191029T183803Z
UID:10000157-1573560000-1573567200@www.lungcancerresearchfoundation.org
SUMMARY:Fourteenth Annual Lung Cancer Awareness Luncheon
DESCRIPTION:The Lung Cancer Research Foundation’s (LCRF) annual Luncheon shines a spotlight on lung cancer\, the number one cause of cancer death worldwide. The event brings together the leading lung cancer researchers and LCRF supporters to help raise awareness and funds to benefit lung cancer research. \n\n\n\nAt the Luncheon\, LCRF will present the 2019 Scientific Grant Program awards\, including the presentation of the James B. Dougherty Award for Distinguished Research in Lung Cancer and the William C. Rippe Award for Distinguished Research in Lung Cancer. Dougherty served as the Chair of LCRF’s Scientific Advisory Board for 14 years and played an instrumental role in the growth of the LCRF’s Scientific Grant Program. It is through this program that LCRF funds innovative\, high-reward lung cancer research. \n\n\n\nThis year’s Luncheon will feature two speakers. Former LCRF grantee\, Giuseppe Giaccone\, MD\, PhD\, Associate Director for Clinical Research at Cornell University\, will deliver the keynote address. LCRF Board Member and lung cancer survivor\, Reina Honts\, will share her personal lung cancer journey and discuss the importance and need for lung cancer research. \n\n\n\nIn conjunction with Lung Cancer Awareness Month starting November 1 and culminating at the Luncheon on November 12\, LCRF will be hosting an online silent auction. Bidding will be open to everyone nationwide. To purchase tickets and tables visit http://lcrf.org/luncheon19 For more information\, contact Meghan Wood\, Director\, Development: 212.588-1580; mwood@lcrf.org \n\n\n\nPurchase Tickets
URL:https://www.lungcancerresearchfoundation.org/event/fourteenth-annual-lung-cancer-awareness-luncheon/
LOCATION:The Pierre\, 2 East 61st Street\, New York\, New York\, 10065\, United States
CATEGORIES:LCRF Signature Event
ATTACH;FMTTYPE=image/jpeg:https://www.lungcancerresearchfoundation.org/wp-content/uploads/event-luncheon2018-banner.jpg
ORGANIZER;CN="Meghan Wood":MAILTO:mwood@lcrf.org
END:VEVENT
END:VCALENDAR