BEGIN:VCALENDAR
VERSION:2.0
PRODID:-//Lung Cancer Research Foundation - ECPv6.15.20//NONSGML v1.0//EN
CALSCALE:GREGORIAN
METHOD:PUBLISH
X-ORIGINAL-URL:https://www.lungcancerresearchfoundation.org
X-WR-CALDESC:Events for Lung Cancer Research Foundation
REFRESH-INTERVAL;VALUE=DURATION:PT1H
X-Robots-Tag:noindex
X-PUBLISHED-TTL:PT1H
BEGIN:VTIMEZONE
TZID:America/New_York
BEGIN:DAYLIGHT
TZOFFSETFROM:-0500
TZOFFSETTO:-0400
TZNAME:EDT
DTSTART:20240310T070000
END:DAYLIGHT
BEGIN:STANDARD
TZOFFSETFROM:-0400
TZOFFSETTO:-0500
TZNAME:EST
DTSTART:20241103T060000
END:STANDARD
BEGIN:DAYLIGHT
TZOFFSETFROM:-0500
TZOFFSETTO:-0400
TZNAME:EDT
DTSTART:20250309T070000
END:DAYLIGHT
BEGIN:STANDARD
TZOFFSETFROM:-0400
TZOFFSETTO:-0500
TZNAME:EST
DTSTART:20251102T060000
END:STANDARD
BEGIN:DAYLIGHT
TZOFFSETFROM:-0500
TZOFFSETTO:-0400
TZNAME:EDT
DTSTART:20260308T070000
END:DAYLIGHT
BEGIN:STANDARD
TZOFFSETFROM:-0400
TZOFFSETTO:-0500
TZNAME:EST
DTSTART:20261101T060000
END:STANDARD
END:VTIMEZONE
BEGIN:VEVENT
DTSTART;TZID=America/New_York:20251105T130000
DTEND;TZID=America/New_York:20251105T150000
DTSTAMP:20260419T144144
CREATED:20250925T203830Z
LAST-MODIFIED:20260317T220614Z
UID:10000306-1762347600-1762354800@www.lungcancerresearchfoundation.org
SUMMARY:Scientific Symposium
DESCRIPTION:Join us as we head into Lung Cancer Awareness Month with our annual Scientific Symposium\, Current and Emerging Hot Topics. The virtual event on November 5 will feature a State of Lung Cancer Research address\, presentations\, and a roundtable discussion. \n\n\n\nWe hope you’ll join us for this exciting virtual event! Register below. \n\n\n\n\nRegister\n\n\n\n\n\n\n\n\n\n\n\n\n\n\n\n\nSchedule\n\n\n\n1pmWelcomeKathryn A. O’Donnell\, PhD \n\n\n\n1:05-1:25pmState of Lung Cancer ResearchSarah Goldberg\, MD\, MPH \n\n\n\n1:25-2:20pmPresentationsPatient Advocacy: Colleen Conner-ZieglerScreening: Chi-Fu Jeffrey Yang\, MDOvercoming Resistance: Don L. Gibbons\, MD\, PhDInnovation: James DeGregori\, PhD \n\n\n\n2:20-2:55pmPanel discussionModerators: Kathryn A. O’Donnell\, PhDIsabel Preeshagul\, DO\, MBS \n\n\n\n2:55pmClosing remarks \n\n\n\n\n\n\n\nParticipants\n\n\n\nHost\n\n\n\n\nKathryn A. O’Donnell\, PhDAssociate Professor\, Department of Molecular Biology\,UT Southwestern Medical Center \n\n\n\nChair\, LCRF Scientific Advisory Board \n\n\n\n\n\n\n\n\nPresenters\n\n\n\n\nSarah Goldberg\, MD\, MPHAssociate Professor of Internal Medicine (Medical Oncology) and Associate Director\, Hematology/Oncology Fellowship Program;Research Director\, Center for Thoracic Cancers\, Yale School of Medicine \n\n\n\nMember\, LCRF Scientific Advisory Board \n\n\n\n\n\n\n\n\n\nColleen Conner-ZieglerPatient Advocate \n\n\n\nChair\, LCRF Board of Directors \n\n\n\n\n\n\n\n\n\nChi-Fu Jeffrey Yang\, MDThoracic Surgeon\, Massachusetts General Hospital;Founding Director\, MGH CAIIRE; Associate Professor of Surgery\, Harvard Medical School \n\n\n\n\n\n\n\n\n\nDon L. Gibbons\, MD\, PhD Isaiah J. Fidler Professorship in Cancer Research\, Professor & Deputy Chair; Director\, Translational Genetic Models Laboratory; Co-Leader\, Lung Cancer Moon Shot Program; Dept. Thoracic/Head and Neck Medical Oncology\, Dept. Molecular & Cellular Oncology\, MD Anderson Cancer Center \n\n\n\n\n\n\n\n\n\nJames DeGregori\, PhD Professor\, Biochemistry and Molecular Genetics; Courtenay C. and Lucy Patten Davis Endowed Chair in Lung Cancer Research;Deputy Director\, University of Colorado Cancer Center\, University of Colorado Anschutz \n\n\n\n\n\n\n\n\nModerator\n\n\n\n\nIsabel Preeshagul\, DO\, MBS Assistant Attending Physician\, Thoracic Oncology\,Memorial Sloan Kettering Cancer Center \n\n\n\nLCRF Education and Engagement Committee Chair \n\n\n\n\n\n\n\n\n\n\n\n\nRegister
URL:https://www.lungcancerresearchfoundation.org/event/scientific-symposium-3/
CATEGORIES:Education,Livestream
ATTACH;FMTTYPE=image/jpeg:https://www.lungcancerresearchfoundation.org/wp-content/uploads/web-symposium-scaled.jpeg
END:VEVENT
END:VCALENDAR