BEGIN:VCALENDAR
VERSION:2.0
PRODID:-//Lung Cancer Research Foundation - ECPv6.15.20//NONSGML v1.0//EN
CALSCALE:GREGORIAN
METHOD:PUBLISH
X-WR-CALNAME:Lung Cancer Research Foundation
X-ORIGINAL-URL:https://www.lungcancerresearchfoundation.org
X-WR-CALDESC:Events for Lung Cancer Research Foundation
REFRESH-INTERVAL;VALUE=DURATION:PT1H
X-Robots-Tag:noindex
X-PUBLISHED-TTL:PT1H
BEGIN:VTIMEZONE
TZID:America/New_York
BEGIN:DAYLIGHT
TZOFFSETFROM:-0500
TZOFFSETTO:-0400
TZNAME:EDT
DTSTART:20250309T070000
END:DAYLIGHT
BEGIN:STANDARD
TZOFFSETFROM:-0400
TZOFFSETTO:-0500
TZNAME:EST
DTSTART:20251102T060000
END:STANDARD
BEGIN:DAYLIGHT
TZOFFSETFROM:-0500
TZOFFSETTO:-0400
TZNAME:EDT
DTSTART:20260308T070000
END:DAYLIGHT
BEGIN:STANDARD
TZOFFSETFROM:-0400
TZOFFSETTO:-0500
TZNAME:EST
DTSTART:20261101T060000
END:STANDARD
BEGIN:DAYLIGHT
TZOFFSETFROM:-0500
TZOFFSETTO:-0400
TZNAME:EDT
DTSTART:20270314T070000
END:DAYLIGHT
BEGIN:STANDARD
TZOFFSETFROM:-0400
TZOFFSETTO:-0500
TZNAME:EST
DTSTART:20271107T060000
END:STANDARD
END:VTIMEZONE
BEGIN:VEVENT
DTSTART;TZID=America/New_York:20260503T080000
DTEND;TZID=America/New_York:20260503T170000
DTSTAMP:20260419T091613
CREATED:20260129T221157Z
LAST-MODIFIED:20260129T221215Z
UID:10000318-1777795200-1777827600@www.lungcancerresearchfoundation.org
SUMMARY:Five Boro Bike Tour
DESCRIPTION:Team LCRF is doing the TD Five Boro Bike Tour! 40 miles. Zero cars. Endless memories. Join our team and raise money for lung cancer research! \n\n\n\nContact events@LCRF.org for more information. \n\n\n\n\nApply for a spot
URL:https://www.lungcancerresearchfoundation.org/event/five-boro-bike-tour/
CATEGORIES:Endurance,Free to Breathe
ATTACH;FMTTYPE=image/png:https://www.lungcancerresearchfoundation.org/wp-content/uploads/calendar-5boro.png
END:VEVENT
BEGIN:VEVENT
DTSTART;TZID=America/New_York:20260507T173000
DTEND;TZID=America/New_York:20260507T193000
DTSTAMP:20260419T091613
CREATED:20260312T004736Z
LAST-MODIFIED:20260312T181552Z
UID:10000325-1778175000-1778182200@www.lungcancerresearchfoundation.org
SUMMARY:Together New York
DESCRIPTION:Come join us for an informative program\, conversation\, and a complimentary dinner at Sweet Grass Grill\, 24 Main St.\, Tarrytown\, NY.  \n\n\n\nOur experts will discuss the latest research updates and important topics in lung cancer. New feature: Dine with the Docs! As we enjoy dinner together\, each speaker will join a table for conversation\, switching tables every 10 minutes. \n\n\n\n\nBalazs Halmos\, MD\, MSMontefiore Einstein Comprehensive Cancer Center \n\n\n\n\n\n\n\n\n\nBrendon M. Stiles\, MDMontefiore Einstein Comprehensive Cancer CenterVice Chair\, LCRF Board and Scientific Advisory Board \n\n\n\n\n\n\n\n\n\nIsabel Preeshagul\, DO\, MBSMemorial Sloan Kettering Cancer CenterChair\, LCRF Education + Engagement Committee \n\n\n\n\n\n\n\n\n\nPeggy Collins\, BSN\, RN\, CCRNNew York-Presbyterian Hospital \n\n\n\n\n\n\n\n\n\nDhru Deb\, PhDSenior Director\, Research & Administration\, LCRF \n\n\n\n\n\n\n\n\nCheck in\, mingle\, then be seated for the program and dinner. (Vegetarian/vegan options will be available.) After the program\, stay and make connections. \n\n\n\nHold your place below – space is limited! \n\n\n\n\n\n\n\n  \n\n\n\n\n\n\n\n\n\n\n\n\n\nSpecial thanks to our sponsors:\n\n\n\n\n\n\n\n\n\n\n\n\n\n\n\n\n\n\n\n\n\n\n\n\n\n\n\n\n\n\n\n\n\n\n\n\n\n\n\n\n\n\n\n\n\n\n\n\n\nAbbVieBoehringer IngelheimEisai
URL:https://www.lungcancerresearchfoundation.org/event/together-ny-2026/
LOCATION:Sweetgrass Grill\, 24 Main Street\, Tarrytown\, New York\, 10591\, United States
CATEGORIES:Education
ATTACH;FMTTYPE=image/jpeg:https://www.lungcancerresearchfoundation.org/wp-content/uploads/tarrytown-ny.jpg
END:VEVENT
BEGIN:VEVENT
DTSTART;TZID=America/New_York:20260514T133000
DTEND;TZID=America/New_York:20260514T143000
DTSTAMP:20260419T091613
CREATED:20260327T171427Z
LAST-MODIFIED:20260417T213636Z
UID:10000328-1778765400-1778769000@www.lungcancerresearchfoundation.org
SUMMARY:Special Together Separately event
DESCRIPTION:Our DNA: A Blueprint for Lung Cancer Research\n\n\n\nWhat We Know\, What We’re Learning\, and Why It Matters for Patients\n\n\n\n\n\n\n\n\nRegister\n\n\n\n\n\n\n\n\nOn May 14\, join us for a special edition of Together Separately\, presented by LCRF and the Susan Wojcicki Foundation\, where we’ll explore what heritable genetics — separate from tumor testing — can tell us about lung cancer\, and how patients are helping to drive the next generation of research. \n\n\n\nOur guest expert\, Sandip Patel\, MD\, and our moderator\, Isabel Preeshagul\, DO\, MBS\, will break down the difference between heritable genetics and tumor genomics in lung cancer\, and why both matter. Then we’ll hear from patients who have been involved in shaping the Lung Cancer Genetics Study\, a collaboration between the Susan Wojcicki Foundation\, the 23andMe Research Institute\, and more than 20 patient advocacy organizations\, and what that work means for the lung cancer community. \n\n\n\nDr. Patel is a medical oncologist and professor of medicine for UC San Diego Health. Dr. Preeshagul is a thoracic oncologist with Memorial Sloan Kettering Cancer Center. We also welcome Janet Freeman-Daily\, Co-Founder & President\, The ROS1ders; and Marc Muskavitch\, who serves on the Board of Directors for ALK Positive Inc. \n\n\n\n\n\nDr. Patel\n\n\n\n\n\nDr. Preeshagul\n\n\n\n\n\nJanet Freeman-Daily\n\n\n\n\n\nMarc Muskavitch\n\n\n\n\n\nJoin us live at 1:30PM ET\, or watch the recording after. Register now for this free event! \n\n\n\n\n\n\n\nAbout The Susan Wojcicki Foundation\n\n\n\nSusan Wojcicki was a visionary tech leader\, CEO of YouTube\, and mother of five who was diagnosed with late-stage lung cancer at 54\, despite having no known risk factors. True to her spirit of innovation and collaboration\, Susan spent her remaining two years uniting scientists\, advocates\, and industry leaders to accelerate progress in understanding and treating the disease.The Susan Wojcicki Foundation recently launched to carry forward her vision with a commitment to breakthrough research and development. Guided by the belief that no one should lose a loved one to lung cancer\, the foundation focuses on expanded screening and life-saving innovations for early detection and prevention. \n\n\n\n\n\n\n\nThis event is offered in partnership with:
URL:https://www.lungcancerresearchfoundation.org/event/risk/
CATEGORIES:Education
ATTACH;FMTTYPE=image/png:https://www.lungcancerresearchfoundation.org/wp-content/uploads/SWF-header.png
END:VEVENT
END:VCALENDAR