BEGIN:VCALENDAR
VERSION:2.0
PRODID:-//Lung Cancer Research Foundation - ECPv6.15.20//NONSGML v1.0//EN
CALSCALE:GREGORIAN
METHOD:PUBLISH
X-WR-CALNAME:Lung Cancer Research Foundation
X-ORIGINAL-URL:https://www.lungcancerresearchfoundation.org
X-WR-CALDESC:Events for Lung Cancer Research Foundation
REFRESH-INTERVAL;VALUE=DURATION:PT1H
X-Robots-Tag:noindex
X-PUBLISHED-TTL:PT1H
BEGIN:VTIMEZONE
TZID:America/New_York
BEGIN:DAYLIGHT
TZOFFSETFROM:-0500
TZOFFSETTO:-0400
TZNAME:EDT
DTSTART:20250309T070000
END:DAYLIGHT
BEGIN:STANDARD
TZOFFSETFROM:-0400
TZOFFSETTO:-0500
TZNAME:EST
DTSTART:20251102T060000
END:STANDARD
BEGIN:DAYLIGHT
TZOFFSETFROM:-0500
TZOFFSETTO:-0400
TZNAME:EDT
DTSTART:20260308T070000
END:DAYLIGHT
BEGIN:STANDARD
TZOFFSETFROM:-0400
TZOFFSETTO:-0500
TZNAME:EST
DTSTART:20261101T060000
END:STANDARD
BEGIN:DAYLIGHT
TZOFFSETFROM:-0500
TZOFFSETTO:-0400
TZNAME:EDT
DTSTART:20270314T070000
END:DAYLIGHT
BEGIN:STANDARD
TZOFFSETFROM:-0400
TZOFFSETTO:-0500
TZNAME:EST
DTSTART:20271107T060000
END:STANDARD
END:VTIMEZONE
BEGIN:VEVENT
DTSTART;TZID=America/New_York:20260609T180000
DTEND;TZID=America/New_York:20260609T210000
DTSTAMP:20260423T044949
CREATED:20260209T180604Z
LAST-MODIFIED:20260210T203143Z
UID:10000322-1781028000-1781038800@www.lungcancerresearchfoundation.org
SUMMARY:Nashville benefit: Here Comes Summer
DESCRIPTION:Join us in Nashville for this benefit to support lung cancer research in honor of Donna Summer\, who passed away from the disease in May 2012. Watch for details to come!
URL:https://www.lungcancerresearchfoundation.org/event/nashville-benefit-here-comes-summer/
LOCATION:Richland Country Club\, 1 Club Drive\, Nashville\, Tennessee\, 37215\, United States
CATEGORIES:Fundraiser
ATTACH;FMTTYPE=image/png:https://www.lungcancerresearchfoundation.org/wp-content/uploads/Event-Classy-banners.png
END:VEVENT
BEGIN:VEVENT
DTSTART;TZID=America/New_York:20260617T160000
DTEND;TZID=America/New_York:20260617T173000
DTSTAMP:20260423T044949
CREATED:20260129T212428Z
LAST-MODIFIED:20260129T212430Z
UID:10000313-1781712000-1781717400@www.lungcancerresearchfoundation.org
SUMMARY:Together Separately: ASCO recap
DESCRIPTION:This livestream is an opportunity to connect face-to-face with others who care about lung cancer. Our guest experts will discuss developments coming out of this year’s ASCO Annual Meeting. Isabel Preeshagul\, DO\, MBS\, thoracic oncologist with Memorial Sloan Kettering Cancer Center\, is our moderator. \n\n\n\nWatch for details and registration coming soon!
URL:https://www.lungcancerresearchfoundation.org/event/together-separately-asco-recap/
CATEGORIES:Education,Livestream
ATTACH;FMTTYPE=image/png:https://www.lungcancerresearchfoundation.org/wp-content/uploads/2026.06.17-TS.png
END:VEVENT
END:VCALENDAR