BEGIN:VCALENDAR
VERSION:2.0
PRODID:-//Lung Cancer Research Foundation - ECPv6.15.20//NONSGML v1.0//EN
CALSCALE:GREGORIAN
METHOD:PUBLISH
X-ORIGINAL-URL:https://www.lungcancerresearchfoundation.org
X-WR-CALDESC:Events for Lung Cancer Research Foundation
REFRESH-INTERVAL;VALUE=DURATION:PT1H
X-Robots-Tag:noindex
X-PUBLISHED-TTL:PT1H
BEGIN:VTIMEZONE
TZID:America/New_York
BEGIN:DAYLIGHT
TZOFFSETFROM:-0500
TZOFFSETTO:-0400
TZNAME:EDT
DTSTART:20250309T070000
END:DAYLIGHT
BEGIN:STANDARD
TZOFFSETFROM:-0400
TZOFFSETTO:-0500
TZNAME:EST
DTSTART:20251102T060000
END:STANDARD
BEGIN:DAYLIGHT
TZOFFSETFROM:-0500
TZOFFSETTO:-0400
TZNAME:EDT
DTSTART:20260308T070000
END:DAYLIGHT
BEGIN:STANDARD
TZOFFSETFROM:-0400
TZOFFSETTO:-0500
TZNAME:EST
DTSTART:20261101T060000
END:STANDARD
BEGIN:DAYLIGHT
TZOFFSETFROM:-0500
TZOFFSETTO:-0400
TZNAME:EDT
DTSTART:20270314T070000
END:DAYLIGHT
BEGIN:STANDARD
TZOFFSETFROM:-0400
TZOFFSETTO:-0500
TZNAME:EST
DTSTART:20271107T060000
END:STANDARD
END:VTIMEZONE
BEGIN:VTIMEZONE
TZID:America/Chicago
BEGIN:DAYLIGHT
TZOFFSETFROM:-0600
TZOFFSETTO:-0500
TZNAME:CDT
DTSTART:20250309T080000
END:DAYLIGHT
BEGIN:STANDARD
TZOFFSETFROM:-0500
TZOFFSETTO:-0600
TZNAME:CST
DTSTART:20251102T070000
END:STANDARD
BEGIN:DAYLIGHT
TZOFFSETFROM:-0600
TZOFFSETTO:-0500
TZNAME:CDT
DTSTART:20260308T080000
END:DAYLIGHT
BEGIN:STANDARD
TZOFFSETFROM:-0500
TZOFFSETTO:-0600
TZNAME:CST
DTSTART:20261101T070000
END:STANDARD
BEGIN:DAYLIGHT
TZOFFSETFROM:-0600
TZOFFSETTO:-0500
TZNAME:CDT
DTSTART:20270314T080000
END:DAYLIGHT
BEGIN:STANDARD
TZOFFSETFROM:-0500
TZOFFSETTO:-0600
TZNAME:CST
DTSTART:20271107T070000
END:STANDARD
END:VTIMEZONE
BEGIN:VEVENT
DTSTART;TZID=America/New_York:20261007T160000
DTEND;TZID=America/New_York:20261007T173000
DTSTAMP:20260423T081248
CREATED:20260129T212638Z
LAST-MODIFIED:20260129T212640Z
UID:10000314-1791388800-1791394200@www.lungcancerresearchfoundation.org
SUMMARY:Together Separately: WCLC recap
DESCRIPTION:This livestream is an opportunity to connect face-to-face with others who care about lung cancer. Our guest experts will discuss developments discussed at the World Conference on Lung Cancer. Isabel Preeshagul\, DO\, MBS\, thoracic oncologist with Memorial Sloan Kettering Cancer Center\, is our moderator. \n\n\n\nWatch for details and registration coming soon!
URL:https://www.lungcancerresearchfoundation.org/event/together-separately-wclc-recap-2/
CATEGORIES:Education,Livestream
ATTACH;FMTTYPE=image/png:https://www.lungcancerresearchfoundation.org/wp-content/uploads/2026.10.07-TS.png
END:VEVENT
BEGIN:VEVENT
DTSTART;TZID=America/New_York:20261017T080000
DTEND;TZID=America/New_York:20261018T170000
DTSTAMP:20260423T081248
CREATED:20260129T221951Z
LAST-MODIFIED:20260129T221952Z
UID:10000321-1792224000-1792342800@www.lungcancerresearchfoundation.org
SUMMARY:Free to Breathe Anywhere Walk
DESCRIPTION:Join us for an amazing and impactful experience in your own community with the Free to Breathe Anywhere Walk!  \n\n\n\nBe part of a nationwide movement! Gather a team of family + friends to support those who have been diagnosed with lung cancer\, honor those we’ve lost\, and take action to improve future lung cancer outcomes. \n\n\n\nWhether you are joining a team or walking as an individual\, you are an important part of our second family\, and we’ll cheer you on to success! \n\n\n\nWalk any time you’d like – it doesn’t have to be during the official walk weekend. Questions? Email us at events@LCRF.org or call (646) 430-0898. Registration coming soon!
URL:https://www.lungcancerresearchfoundation.org/event/free-to-breathe-anywhere-walk-4/
CATEGORIES:Free to Breathe
ATTACH;FMTTYPE=image/jpeg:https://www.lungcancerresearchfoundation.org/wp-content/uploads/Anywhere.jpg
END:VEVENT
BEGIN:VEVENT
DTSTART;TZID=America/Chicago:20261018T080000
DTEND;TZID=America/Chicago:20261018T120000
DTSTAMP:20260423T081248
CREATED:20260129T221748Z
LAST-MODIFIED:20260129T222058Z
UID:10000320-1792310400-1792324800@www.lungcancerresearchfoundation.org
SUMMARY:Free to Breathe Chicago Walk
DESCRIPTION:Join us for an amazing and impactful experience at the Free to Breathe Chicago Walk! When you walk with us\, you are joining a community dedicated to building awareness and funding vital research programs to increase lung cancer survival. \n\n\n\nWhether you are joining a team or walking as an individual\, you are an important part of our second family\, and we’ll cheer you on to success! Registration coming soon! \n\n\n\nQuestions? Email us at events@LCRF.org or call (646) 430-0898.
URL:https://www.lungcancerresearchfoundation.org/event/free-to-breathe-chicago-walk-3/
CATEGORIES:Free to Breathe
ATTACH;FMTTYPE=image/jpeg:https://www.lungcancerresearchfoundation.org/wp-content/uploads/Chicago2025.jpg
END:VEVENT
END:VCALENDAR